BEGIN:VCALENDAR
VERSION:2.0
CALSCALE:GREGORIAN
PRODID:adamgibbons/ics
METHOD:PUBLISH
X-PUBLISHED-TTL:PT1H
BEGIN:VEVENT
UID:v5vBUwtVN5-czIr0YVYf3
SUMMARY:Clases de meditación 2025-2026
DTSTAMP:20260422T183013Z
DTSTART:20261230T190000Z
DESCRIPTION:Este curso 2025-2026 o Ateneo de Santiago continuará coas clase
	s de meditación\, que se desenvolverán ás 19.00 horas na Sala de Actividad
	es do Ateneo de Santiago\, todos os mércores nas seguintes datas:  \n   - 
	15\, 22 e 29 de outubro  \n   - 5\, 12\, 19 e 26 de novembro  \n   - 3\, 1
	0 e 16 de decembro  \n   - 14\, 21 e 28 de xaneiro  \n   - 4\, 11\, 18 e 2
	5 de febreiro  \n   - 4\, 11\, 18 e 25 de marzo  \n   - 8\, 15\, 22 e 29 d
	e abril  \n   - 6\, 13\, 20 e 27 de maio  \n   - 3 e 10 de xuño\n\nAdemais
	 da meditación\, este ano vaise ler o libro _Vipassana_\, de Joseph Goldst
	ein e Jack Kornfield. Aínda que esta obra é apta para principiantes\, é re
	comendable ter lido con anterioridade _Los 4 Fundamentos del Mindfulness_\
	, de Bhante H. Gunaratana. Ambas as dúas obras poden encargarse na Librarí
	a Follas Novas.\n\nEsta actividade é gratuíta e exclusiva para os/as socio
	s/as do Ateneo. O número de prazas dispoñibles é limitado polo que é preci
	so inscribirse previamente no enderezo [ateneo@ateneodesantiago.gal](mailt
	o:ateneo@ateneodesantiago.gal). A admisión de participantes permanecerá ab
	erta ata o mes de decembro. As persoas que queiran incorporarse ao grupo a
	 partir do mes de xaneiro\, deberán agardar pola autorización da coordinad
	ora do grupo.
LOCATION:Praza de Salvador Parga\, 4\, 2º<br>\n15704 Santiago de Compostela
X-MICROSOFT-CDO-BUSYSTATUS:BUSY
DURATION:PT
END:VEVENT
END:VCALENDAR
