BEGIN:VCALENDAR
VERSION:2.0
CALSCALE:GREGORIAN
PRODID:adamgibbons/ics
METHOD:PUBLISH
X-PUBLISHED-TTL:PT1H
BEGIN:VEVENT
UID:l1wbrKsn7wqz_Wd964f-m
SUMMARY:Proxección da película «Abel» de Diego Luna
DTSTAMP:20260422T183013Z
DTSTART:20261230T190000Z
DESCRIPTION:O mércores\, 22 de abril\, ás 19.00h o Ateneo de Santiago ten p
	rogramada na sede de Afundación (Rúa do Vilar\, 19\, de Santiago de Compos
	tela) a proxección da película «Abel» de Diego Luna. Esta proxección\, com
	prendida dentro da V Mostra Internacional de Cine e Educación (CINEDUCA)\,
	 estará presentada e comentada por Mar Lorenzo\, Decana da Facultade de Ci
	encias da Educación da USC .\n\n_**Abel**_  \nDirector: Diego Luna  \nMéxi
	co\, 2010  \nAbel é un neno de nove anos\, cuxo comportamento e negativa a
	 falar o levou a estar nun centro de saúde mental preto da súa casa. A súa
	 nai solteira\, convencida de que reunilo co seu irmán e a súa irmá poderí
	a axudarlle na súa situación\, persuade ao doutor para que o deixe libre d
	urante unha semana. Co seu pai ausente\, Abel convértese nunha pouco conve
	ncional figura paternal que conseguirá unir á familia.\n\n**María do Mar L
	orenzo Moledo**\, doutora en Filosofía e Ciencias da Educación pola USC\, 
	é Catedrática de Universidade no Departamento de Pedagoxía e Didáctica den
	de 2022. As súas liñas de investigación son a educación e pedagoxía interc
	ultural\, a pedagoxía laboral\, a pedagoxía penitenciaria\, a educación fa
	miliar e a aprendizaxe-servizo e competencias na educación superior. Ten p
	ublicado 18 libros\, participou en numerosos capítulos de libros e é autor
	a de máis de 70 artigos en revistas de impacto na escea nacional e interna
	cional. Pertence ao Grupo de Investigación ESCULCA da USC (Grupo de Refere
	ncia Competitiva do Sistema Galego de I+D+i)\, que obtivo o 1º Premio Naci
	onal de Investigación Educativa 2007 co Proxecto "Familias inmigrantes en 
	Galicia: la dimensión socio-educativa de la integración" (SEJ2004-05967)\,
	 do que foi Investigadora Principal\; o terceiro Premio Nacional de Invest
	igación en 2003 cun proxecto\, no que participou como investigadora\, sobr
	e Aprendizaxe Cooperativa en centros educativos\; e o Premio María Barbeit
	o de Educación en Galicia á Investigación Pedagóxica na súa terceira edici
	ón. Forma parte da Rede RIES (Xunta de Galicia) e da Rede de Excelencia “U
	niversidade\, Innovación e Aprendizaxe na Sociedade do Coñecemento” (Minis
	terio de Ciencia e Innovación). Dirixiu 11 teses doutorias\, contribuíndo 
	ao inicio e desenvolvemento da carreira investigadora de novos/as docentes
	 de universidade e de profesionais doutros niveis educativos\, e foi inves
	tigadora en máis de 20 proxectos financiados en convocatorias competitivas
	 (autonómicas\, nacionais e europeas) e contratos coa administración. É av
	aliadora de distintas Axencias autonómicas\, nacionais e internacionais e 
	participou en numerosos congresos internacionais\, destacando os de EERA. 
	Foi Xefa de División de Investigación Educativa no Instituto de Ciencias d
	a Educación (ICE)\, Vicerreitora de Extensión Cultural e Servizos á Comuni
	dade Universitaria\, Vicerreitora de Igualdade\, Cultura e Servizos e coor
	dinadora do Programa de Doutoramento en Educación na USC. Tamén foi Subdir
	ectora da _Revista Galega do Ensino_\, Directora da Cátedra UNESCO de Cult
	ura de Paz e Dereitos Humanos e Asesora UNED no Centro Penitenciario de Te
	ixeiro (A Coruña). Actualmente é decana da Facultade de Ciencias da Educac
	ión da USC.
LOCATION:Praza de Salvador Parga\, 4\, 2º<br>\n15704 Santiago de Compostela
X-MICROSOFT-CDO-BUSYSTATUS:BUSY
DURATION:PT
END:VEVENT
END:VCALENDAR
