BEGIN:VCALENDAR
VERSION:2.0
CALSCALE:GREGORIAN
PRODID:adamgibbons/ics
METHOD:PUBLISH
X-PUBLISHED-TTL:PT1H
BEGIN:VEVENT
UID:Z9MisS1IZf0dqUZjoTvFE
SUMMARY:Emiia y Pablo
DTSTAMP:20260422T183013Z
DTSTART:20261231T203000Z
DESCRIPTION:🎶🌿 EMILIA E PABLO EN RIQUELA\n\nO xoves 28 de maio\, o dúo chil
	eno-español presenta un adianto de "De Púrpura e Melancolía"\, o seu novo 
	traballo. Unha viaxe musical pola poesía de Gabriela Mistral\, Alejandra P
	izarnik e outras grandes\, xunto ao mellor dos seus discos anteriores.\n\n
	Fusión de raíz latinoamericana e flamenca\, recoñecidos pola crítica (Mond
	o Sonoro\, Premios MIN) e con colaboracións con Estrella Morente ou Niño d
	e Elxe.\n\n🗓 XOVES 28 MAIO  \n⏰ 20:30h  \n📍 Riquela Club  \n🎟 Entradas en 
	Woutick (link en bio)\n\nPoesía\, fusión e corazón. ❤️\n\n#RiquelaClub #Emi
	liaYPablo #DePúrpuraYMelancolía
LOCATION:Rúa do Preguntoiro\, 35<br>\n15704 Santiago de Compostela
X-MICROSOFT-CDO-BUSYSTATUS:BUSY
DURATION:PT
END:VEVENT
END:VCALENDAR
