BEGIN:VCALENDAR
VERSION:2.0
CALSCALE:GREGORIAN
PRODID:adamgibbons/ics
METHOD:PUBLISH
X-PUBLISHED-TTL:PT1H
BEGIN:VEVENT
UID:EuGAxqvLMNU1_R9h9wjYU
SUMMARY:OBRADOIRO PARA A RAPAZADA · ANTIFÉMINA · COLITA
DTSTAMP:20260422T183013Z
DTSTART:20261230T113000Z
DESCRIPTION:A exposición A_ntifémina_ achéganos á ollada de Colita\, pionei
	ra da fotografía documental en España e autora de imaxes que retratan o pa
	so do franquismo á democracia. A través delas\, poderemos descubrir como e
	ra a vida durante os anos da Transición e coñecer historias de mulleres re
	ais que\, mesmo en contextos que lles negaban o dereito a decidir libremen
	te sobre a súa propia vida\, abriron camiños e fixeron visibles outras man
	eiras de estar no mundo.\n\nColita puxo a súa cámara ao servizo de algo fu
	ndamental: dar voz e visibilidade ás mulleres. Nas súas fotografías aparec
	en traballadoras\, artistas\, veciñas\, amigas… mulleres diversas que comp
	arten forza\, dignidade e unha historia que merece ser compartida.\n\nNest
	e obradoiro\, a rapazada converterase en pequena exploradora da fotografía
	. Observaremos as imaxes de Colita\, falaremos do que nos contan e descubr
	iremos como unha fotografía pode servir para mirar a realidade con outros 
	ollos e para reivindicar as historias que ás veces quedaron ocultas.\n\nA 
	actividade propón un espazo creativo no que a rapazada poderá reflexionar\
	, imaxinar e expresar a súa propia visión do mundo a través das imaxes\, e
	ntendendo que todas as historias merecen ser vistas e escoitadas.\n\n**As 
	prazas son limitadas\, reserva a túa canto antes!**\n\nDatas: sábado 18 e 
	sábado 25 de abril  \nLugar: Sala Isaac Díaz Pardo do Auditorio de Galicia
	 (sala de exposicións)  \nHora: 11.30 h  \nDuración: 2 horas  \nDirixido a
	: rapazada de 6 a 12 anos\n\n**Acceso: de balde previa [inscrición no form
	ulario.](https://docs.google.com/forms/d/e/1FAIpQLSf3-qpwUnn7mczK7x4uESsz-
	YQW_bsJWQxxJ_ctT-9CEOqIzg/viewform?usp=header)**\n\nAs participantes deber
	án chegar ao Auditorio 15 minutos antes do inicio da actividade acompañada
	s por unha persoa adulta\, que tamén deberá recollelas ao seu remate.\n\nN
	o caso de que algunha persoa adulta acompañante queira compartir a activid
	ade\, deberá indicalo no formulario.\n\nImaxe de encabezado: _Xitaniña en 
	Montjuïc_. Barcelon\, 1963. © Archivo Colita Fotografía.
URL:https://www.compostelacultura.gal/espectaculos/evento/obradoiro-para-ra
	pazada-%C2%B7-antif%C3%A9mina-%C2%B7-colita
LOCATION:Avenida do Burgo das Nacións<br>\n15705 Santiago de Compostela
X-MICROSOFT-CDO-BUSYSTATUS:BUSY
DURATION:PT
END:VEVENT
END:VCALENDAR
