BEGIN:VCALENDAR
VERSION:2.0
CALSCALE:GREGORIAN
PRODID:adamgibbons/ics
METHOD:PUBLISH
X-PUBLISHED-TTL:PT1H
BEGIN:VEVENT
UID:HdAdcVIyX7X0Kllj5sWus
SUMMARY:Improversións: A propósito de William
DTSTAMP:20260422T183013Z
DTSTART:20261230T203000Z
DESCRIPTION:Texto\n\nSobrevivir a unha matanza é duro\, pero moito máis se 
	despois che toca contala. Os cómicos de Hamlet e o pobre Horacio saen de E
	lsinore co trauma no corpo e a necesidade de atopar un no...\n\nSobrevivir
	 a unha matanza é duro\, pero moito máis se despois che toca contala. Os c
	ómicos de Hamlet e o pobre Horacio saen de Elsinore co trauma no corpo e a
	 necesidade de atopar un novo traballo facendo o que mellor saben facer: e
	ncarnar as historias tal e como as tería escrito o seu finado dramaturgo\,
	 un tal William\, que quedou na corte co resto dos cadáveres.\n\nVíctor Ca
	stro\, Antía Vidal e Diego Salgado improvisan historias no estilo de Shake
	speare ca súa característica esencia musical\, como estaba escrito no dest
	ino dos Improversados.\n\nAlgo cheira a impro en Dinamarca.  \n \n\nVer má
	is\n\nAutoría\n\nCompañía Improversados\n\nCompañía Improversados
URL:https://centrodramatico.xunta.gal/gl/espectaculos/improversions-proposi
	to-de-william#functions
LOCATION:Rúa Nova\, 34<br>\n15705 Santiago de Compostela
X-MICROSOFT-CDO-BUSYSTATUS:BUSY
DURATION:PT
END:VEVENT
END:VCALENDAR
