BEGIN:VCALENDAR
VERSION:2.0
CALSCALE:GREGORIAN
PRODID:adamgibbons/ics
METHOD:PUBLISH
X-PUBLISHED-TTL:PT1H
BEGIN:VEVENT
UID:xzuMJ1m2SqWp_dwW_SjeM
SUMMARY:EL SENTIDO DE LA BIRRA LIVE
DTSTAMP:20260422T183011Z
DTSTART:20261231T210000Z
DESCRIPTION:Máis aló da pantalla\, Risos que Abren Mentes e Conectan Corazó
	ns. Prepárate para unha noite onde a honestidade e a profundidade atópanse
	 co humor máis intelixente. En ESDLB Ao vivo\, Ricardo Moya sobe ao escena
	rio con invitados sorpresa que nos invitan a explorar\, rir e reflexionar 
	sobre temas que nos tocan a alma. Cada show é unha oportunidade única para
	 conectar con historias que inspiran\, desafian e fannos ver o mundo desde
	 unha perspectiva diferente. Non é só un podcast\, é unha experiencia carg
	ada de moito humor cun chisco de reflexión. Únete á conversación! [elsenti
	dodelabirra.com](https://elsentidodelabirra.com/) [youtube.com](https://ww
	w.youtube.com/playlist?list=PL6PJg4k4pL5zlVX2xPkez--HtN_MFWHQ7)
LOCATION:Rúa Concepción Arenal\, 5<br>\n15702 Santiago de Compostela
X-MICROSOFT-CDO-BUSYSTATUS:BUSY
DURATION:PT
END:VEVENT
END:VCALENDAR
