BEGIN:VCALENDAR
VERSION:2.0
CALSCALE:GREGORIAN
PRODID:adamgibbons/ics
METHOD:PUBLISH
X-PUBLISHED-TTL:PT1H
BEGIN:VEVENT
UID:1U-TPYYebAZdMFKkUmpX_
SUMMARY:Festa 30 aniversario - Nordesía
DTSTAMP:20260422T183011Z
DTSTART:20261230T000000Z
DESCRIPTION:Nordesía Produccións\, empresa pioneira no sector cultural gale
	go\, celebra o seu 30º aniversario cunha festa moi especial. O mestre Carl
	os Blanco será o encargado de conducir unha noite chea de emocións. A prog
	ramación inclúe o concerto de Expresso Transatlântico\, que servirá de mar
	co oficial para a presentación da VII Edición do Festival MARÉ\, e as inte
	rvencións musicais de artistas como Cheny Wa Gune\, A Pedreira & Alejandro
	 Vargas\, X. M. Budiño\, Lumedoloop\, Marcos Coll\, Felisa Segade\, Uxía\,
	 Banda das Crechas e DJ MIL. Para que a festa continúe e o baile estea ase
	gurado\, DJ Panko fará un percorrido pola música vencellada a Nordesía nes
	tes 30 anos de traxectoria. 20:30h – portas [instagram.com/nordesiaproduci
	ons](https://www.instagram.com/nordesiaproducions)
LOCATION:Rúa Concepción Arenal\, 5<br>\n15702 Santiago de Compostela
X-MICROSOFT-CDO-BUSYSTATUS:BUSY
DURATION:PT
END:VEVENT
END:VCALENDAR
