BEGIN:VCALENDAR
VERSION:2.0
CALSCALE:GREGORIAN
PRODID:adamgibbons/ics
METHOD:PUBLISH
X-PUBLISHED-TTL:PT1H
BEGIN:VEVENT
UID:fcBn5HKwAIPJJBgx3sH-r
SUMMARY:THE LONG RYDERS + TESOURO
DTSTAMP:20260422T183011Z
DTSTART:20261230T000000Z
DESCRIPTION:The Long Ryders regresan aos escenarios españois en abril cunha
	 xira que volve situar o seu nome na primeira liña do alt-country e a Amer
	icana. Unha oportunidade para reencontrarse cunha banda cuxa influencia se
	gue plenamente vixente.\nA banda chega con “High Noon Hymns”\, gravado en 
	California xunto ao produtor Ed Stasium e publicado por Cherry Rede Record
	s\, un álbum que retoma a súa esencia sonora e suma novas cancións a un ca
	tálogo xa imprescindible.\n\nthelongryders.com\n\nopen.spotify.com
LOCATION:Rúa Concepción Arenal\, 5<br>\n15702 Santiago de Compostela
X-MICROSOFT-CDO-BUSYSTATUS:BUSY
DURATION:PT
END:VEVENT
END:VCALENDAR
