BEGIN:VCALENDAR
VERSION:2.0
CALSCALE:GREGORIAN
PRODID:adamgibbons/ics
METHOD:PUBLISH
X-PUBLISHED-TTL:PT1H
BEGIN:VEVENT
UID:AUbKjGOjb3nTvq_2ZL6RP
SUMMARY:Michael
DTSTAMP:20260423T020246Z
DTSTART:20261230T172000Z
DESCRIPTION:MICHAEL es el retrato en la gran pantalla de la vida y el legad
	o de uno de los artistas más influyentes que el mundo haya conocido.
LOCATION:Rúa de Ramón Piñeiro\, 3<br>\n15702 Santiago de Compostela
X-MICROSOFT-CDO-BUSYSTATUS:BUSY
DURATION:PT127M
END:VEVENT
END:VCALENDAR
