BEGIN:VCALENDAR
VERSION:2.0
CALSCALE:GREGORIAN
PRODID:adamgibbons/ics
METHOD:PUBLISH
X-PUBLISHED-TTL:PT1H
BEGIN:VEVENT
UID:dd_itImAo7CmMH8GIOrdm
SUMMARY:LA RISA Y LA NAVAJA
DTSTAMP:20260422T183011Z
DTSTART:20261230T200000Z
DESCRIPTION:Sergio viaja a una metrópolis de África Occidental para trabaja
	r como ingeniero ambiental en la construcción de una carretera que unirá e
	l desierto y la selva. Allí entabla una relación estrecha\, aunque un tant
	o desequilibrada\, con dos habitantes de la ciudad\, Diara y Gui. Pronto d
	escubre que un ingeniero italiano\, al que le han asignado la misma misión
	 que a él unos meses antes\, ha desaparecido misteriosamente.
LOCATION:Rúa de Ramón Piñeiro\, 3<br>\n15702 Santiago de Compostela
X-MICROSOFT-CDO-BUSYSTATUS:BUSY
DURATION:PT216M
END:VEVENT
END:VCALENDAR
