BEGIN:VCALENDAR
VERSION:2.0
CALSCALE:GREGORIAN
PRODID:adamgibbons/ics
METHOD:PUBLISH
X-PUBLISHED-TTL:PT1H
BEGIN:VEVENT
UID:srq4i-zAwTCjmtpv5qhFC
SUMMARY:LA MUJER MÁS RICA DEL MUNDO
DTSTAMP:20260423T020246Z
DTSTART:20261230T173000Z
DESCRIPTION:La mujer más rica del mundo: su belleza\, su inteligencia\, su 
	poder. Un fotógrafo: su ambición\, su audacia\, su locura. Un amor a prime
	ra vista que los arrastra. Una heredera desconfiada que lucha por ser amad
	a. Un mayordomo vigilante que sabe más de lo que dice. Secretos de familia
	. Donaciones astronómicas. Una guerra en la que todo vale.
LOCATION:Rúa de Ramón Piñeiro\, 3<br>\n15702 Santiago de Compostela
X-MICROSOFT-CDO-BUSYSTATUS:BUSY
DURATION:PT122M
END:VEVENT
END:VCALENDAR
