BEGIN:VCALENDAR
VERSION:2.0
CALSCALE:GREGORIAN
PRODID:adamgibbons/ics
METHOD:PUBLISH
X-PUBLISHED-TTL:PT1H
BEGIN:VEVENT
UID:a15PD15YRx7yJSY67P0HG
SUMMARY:LA HABITACIÓN DE MARIANA
DTSTAMP:20260422T183011Z
DTSTART:20261230T173000Z
DESCRIPTION:1942\, Ucrania. Hugo tiene 12 años cuando el nazismo ocupa su t
	ierra. Para salvarlo de la deportación\, su madre lo confía a su amiga de 
	la infancia\, Mariana\, una prostituta que vive en un burdel en las afuera
	s de la ciudad. Escondido en el armario de la habitación de Mariana\, toda
	 su existencia está suspendida de los ruidos que lo rodean y de las escena
	s que adivina a través del armario. Mientras la guerra continúa fuera Hugo
	 y Mariana forjan un vínculo íntimo y complejo de amor\, lealtad y devoció
	n mutua\, que cambiará sus vidas para siempre.
LOCATION:Rúa de Ramón Piñeiro\, 3<br>\n15702 Santiago de Compostela
X-MICROSOFT-CDO-BUSYSTATUS:BUSY
DURATION:PT121M
END:VEVENT
END:VCALENDAR
