BEGIN:VCALENDAR
VERSION:2.0
CALSCALE:GREGORIAN
PRODID:adamgibbons/ics
METHOD:PUBLISH
X-PUBLISHED-TTL:PT1H
BEGIN:VEVENT
UID:1nJMeGg0VTC-Oak3YGAGt
SUMMARY:KRAKEN: EL LIBRO NEGRO DE LAS HORAS
DTSTAMP:20260423T020246Z
DTSTART:20261230T193000Z
DESCRIPTION:Vitoria\, 2022. El exinspector y perfilador criminal Unai López
	 de Ayala\, alias Kraken\, (Alejo Sauras) recibe una llamada anónima que c
	ambiará lo que cree saber de su pasado familiar: tiene una semana para enc
	ontrar el legendario Libro negro de las horas\, una de las 7 exclusivas jo
	yas bibliográficas que existen\, si no\, su madre\, a la que creía muerta 
	desde hace décadas\, morirá. Unai vuelve de su retiro para iniciar junto a
	 Esti (Maggie Civantos) una angustiosa carrera contrarreloj entre Vitoria 
	y el Madrid de los bibliófilos para trazar el perfil criminal más importan
	te de su carrera\, uno capaz de modificar para siempre su pasado.
LOCATION:Rúa de Ramón Piñeiro\, 3<br>\n15702 Santiago de Compostela
X-MICROSOFT-CDO-BUSYSTATUS:BUSY
DURATION:PT112M
END:VEVENT
END:VCALENDAR
