BEGIN:VCALENDAR
VERSION:2.0
CALSCALE:GREGORIAN
PRODID:adamgibbons/ics
METHOD:PUBLISH
X-PUBLISHED-TTL:PT1H
BEGIN:VEVENT
UID:AaTHFtkqQ_RIcTi0n1ooY
SUMMARY:EL SONIDO DE LA CAÍDA
DTSTAMP:20260422T183011Z
DTSTART:20261230T172000Z
DESCRIPTION:Cuatro chicas\, Alma\, Erika\, Angelika y Lenka\, pasan su infa
	ncia y adolescencia en la misma granja del norte de Alemania. Se trata de 
	un lugar que va evolucionando a lo largo de un siglo y entre cuyas paredes
	 perduran los ecos del pasado.
LOCATION:Rúa de Ramón Piñeiro\, 3<br>\n15702 Santiago de Compostela
X-MICROSOFT-CDO-BUSYSTATUS:BUSY
DURATION:PT154M
END:VEVENT
END:VCALENDAR
