BEGIN:VCALENDAR
VERSION:2.0
CALSCALE:GREGORIAN
PRODID:adamgibbons/ics
METHOD:PUBLISH
X-PUBLISHED-TTL:PT1H
BEGIN:VEVENT
UID:w7LVEo7Y6_xE-PMfMJa5o
SUMMARY:Un poeta
DTSTAMP:20260422T183011Z
DTSTART:20261230T195000Z
DESCRIPTION:Óscar Restrepo\, o poeta do título\, non foi quen de estar á al
	tura dos seus prometedores inicios na literatura e sobrevive como pode dan
	do aulas nun instituto e coidando da súa nai. En Yurlady\, unha das súas a
	lumnas\, descobre un espírito afín\, un diamante en bruto da poesía.
LOCATION:Rúa de Ramón Piñeiro\, 3<br>\n15702 Santiago de Compostela
X-MICROSOFT-CDO-BUSYSTATUS:BUSY
DURATION:PT123M
END:VEVENT
END:VCALENDAR
