BEGIN:VCALENDAR
VERSION:2.0
CALSCALE:GREGORIAN
PRODID:adamgibbons/ics
METHOD:PUBLISH
X-PUBLISHED-TTL:PT1H
BEGIN:VEVENT
UID:8ceJscpfOLcl9hioB4DBM
SUMMARY:Super Mario Galaxy: La película
DTSTAMP:20260423T020246Z
DTSTART:20261230T172000Z
DESCRIPTION:La película tiene lugar después de los acontecimientos de la pr
	imera\, en la que dos hermanos\, Mario y Luigi\, y la princesa Peach empre
	nden una nueva aventura.
LOCATION:Rúa de Ramón Piñeiro\, 3<br>\n15702 Santiago de Compostela
X-MICROSOFT-CDO-BUSYSTATUS:BUSY
DURATION:PT98M
END:VEVENT
END:VCALENDAR
