BEGIN:VCALENDAR
VERSION:2.0
CALSCALE:GREGORIAN
PRODID:adamgibbons/ics
METHOD:PUBLISH
X-PUBLISHED-TTL:PT1H
BEGIN:VEVENT
UID:X8LHKQ3XYJU3av7ikgHsN
SUMMARY:RENOIR
DTSTAMP:20260422T183011Z
DTSTART:20261230T220000Z
DESCRIPTION:Tokio\, 1987. Mientras su madre sostiene el hogar y su padre lu
	cha contra la enfermedad\, Fuki\, una niña de 11 años con una imaginación 
	desbordante\, vive un verano marcado por una curiosidad inmensa por el mun
	do que la rodea. Entre juegos\, fantasías y pequeños descubrimientos\, emp
	rende un viaje íntimo y luminoso para comprender la realidad cambiante que
	 se despliega ante ella.
LOCATION:Rúa de Ramón Piñeiro\, 3<br>\n15702 Santiago de Compostela
X-MICROSOFT-CDO-BUSYSTATUS:BUSY
DURATION:PT119M
END:VEVENT
END:VCALENDAR
