BEGIN:VCALENDAR
VERSION:2.0
CALSCALE:GREGORIAN
PRODID:adamgibbons/ics
METHOD:PUBLISH
X-PUBLISHED-TTL:PT1H
BEGIN:VEVENT
UID:6DjmLBFcwmbwPOQTSiJC3
SUMMARY:Proyecto Salvación
DTSTAMP:20260423T020246Z
DTSTART:20261230T213000Z
DESCRIPTION:El profesor de ciencias Ryland Grace (Ryan Gosling) se despiert
	a en una nave espacial a años luz de casa sin recordar quién es ni cómo ha
	 llegado hasta allí.
LOCATION:Rúa de Ramón Piñeiro\, 3<br>\n15702 Santiago de Compostela
X-MICROSOFT-CDO-BUSYSTATUS:BUSY
DURATION:PT157M
END:VEVENT
END:VCALENDAR
