BEGIN:VCALENDAR
VERSION:2.0
CALSCALE:GREGORIAN
PRODID:adamgibbons/ics
METHOD:PUBLISH
X-PUBLISHED-TTL:PT1H
BEGIN:VEVENT
UID:J6w2jx6Py4cKNDxdK0iZ5
SUMMARY:Prime Crime: A True Story
DTSTAMP:20260422T183011Z
DTSTART:20261230T173000Z
DESCRIPTION:Recrea a historia real do secuestro de 1977 que converteu a Ton
	y Kiritsis\, un aspirante a empresario de Indianápolis\, nun excéntrico he
	roe popular proscrito.
LOCATION:Rúa de Ramón Piñeiro\, 3<br>\n15702 Santiago de Compostela
X-MICROSOFT-CDO-BUSYSTATUS:BUSY
DURATION:PT105M
END:VEVENT
END:VCALENDAR
