BEGIN:VCALENDAR
VERSION:2.0
CALSCALE:GREGORIAN
PRODID:adamgibbons/ics
METHOD:PUBLISH
X-PUBLISHED-TTL:PT1H
BEGIN:VEVENT
UID:M1P_ah8WUAmCeUq84WaGN
SUMMARY:MI QUERIDA SEÑORITA
DTSTAMP:20260422T183011Z
DTSTART:20261230T195000Z
DESCRIPTION:Adela\, solitaria hija única de una familia conservadora\, pasa
	 sus días entre la tienda de antigüedades familiar y las clases de cateque
	sis que imparte\, marcada por la protección de su madre y el silencio sobr
	e su intersexualidad\, que desconoce pero condiciona su vida. Una inespera
	da y hermosa amistad con un sacerdote recién llegado\, el regreso de un gr
	an amigo de su infancia y la irrupción de una mujer\, Isabel\, provocan un
	a reacción en cadena que lleva a Adela a un viaje en busca de sí misma\, d
	e Pamplona a Madrid\, donde la identidad necesitará del amor y la ayuda de
	 los demás para revelarse.
LOCATION:Rúa de Ramón Piñeiro\, 3<br>\n15702 Santiago de Compostela
X-MICROSOFT-CDO-BUSYSTATUS:BUSY
DURATION:PT113M
END:VEVENT
END:VCALENDAR
