BEGIN:VCALENDAR
VERSION:2.0
CALSCALE:GREGORIAN
PRODID:adamgibbons/ics
METHOD:PUBLISH
X-PUBLISHED-TTL:PT1H
BEGIN:VEVENT
UID:Igg7JAEcAbkNmN7er6eOW
SUMMARY:LA GRAZIA
DTSTAMP:20260423T020246Z
DTSTART:20261230T191000Z
DESCRIPTION:Toni Servillo interpreta a Mariano De Santis\, expresidente ita
	liano\, quien se enfrenta a dilemas morales y personales con la ayuda de s
	u confidente e hija\, Dorotea (Anna Ferzetti). Con la inconfundible visión
	 poética de Sorrentino y una evocadora banda sonora\, esta conmovedora obr
	a maestra es una íntima reflexión sobre la paternidad\, la conciencia y la
	 eterna pregunta: ¿quién es dueño de nuestros días?
LOCATION:Rúa de Ramón Piñeiro\, 3<br>\n15702 Santiago de Compostela
X-MICROSOFT-CDO-BUSYSTATUS:BUSY
DURATION:PT131M
END:VEVENT
END:VCALENDAR
