BEGIN:VCALENDAR
VERSION:2.0
CALSCALE:GREGORIAN
PRODID:adamgibbons/ics
METHOD:PUBLISH
X-PUBLISHED-TTL:PT1H
BEGIN:VEVENT
UID:nBF-gXwarE_moDssyvb5R
SUMMARY:La familia Benetón +2
DTSTAMP:20260423T020246Z
DTSTART:20261230T193000Z
DESCRIPTION:Cuando Toni Benetón cree que tiene todo bajo control en su entr
	añable y divertida familia multicultural\, la llegada de dos nuevos bebés 
	pondrá patas arriba la casa.
LOCATION:Rúa de Ramón Piñeiro\, 3<br>\n15702 Santiago de Compostela
X-MICROSOFT-CDO-BUSYSTATUS:BUSY
DURATION:PT87M
END:VEVENT
END:VCALENDAR
