BEGIN:VCALENDAR
VERSION:2.0
CALSCALE:GREGORIAN
PRODID:adamgibbons/ics
METHOD:PUBLISH
X-PUBLISHED-TTL:PT1H
BEGIN:VEVENT
UID:rY2xG-DDobcwvKKDqjPfe
SUMMARY:INCONTROLABLE (I  SWEAR)
DTSTAMP:20260423T020246Z
DTSTART:20261230T200000Z
DESCRIPTION:La historia real de John Davidson. Diagnosticado con Tourette a
	 los 15 años\, señalado como loco por sus compañeros\, luchó con una condi
	ción que pocos habían presenciado. Ya adulto\, hizo campaña en favor del s
	índrome de Tourette.
LOCATION:Rúa de Ramón Piñeiro\, 3<br>\n15702 Santiago de Compostela
X-MICROSOFT-CDO-BUSYSTATUS:BUSY
DURATION:PT115M
END:VEVENT
END:VCALENDAR
