BEGIN:VCALENDAR
VERSION:2.0
CALSCALE:GREGORIAN
PRODID:adamgibbons/ics
METHOD:PUBLISH
X-PUBLISHED-TTL:PT1H
BEGIN:VEVENT
UID:dHNWpXbuvL14hhrhjSpII
SUMMARY:CALLE MÁLAGA
DTSTAMP:20260423T020246Z
DTSTART:20261230T195000Z
DESCRIPTION:María Ángeles (Carmen Maura) es una española de 79 años que viv
	e sola en Tánger\, en el norte de Marruecos\, donde disfruta de su ciudad 
	y de su vida diaria. Su vida da un giro cuando su hija Clara (Marta Etura)
	 llega desde Madrid para vender el apartamento en el que siempre ha vivido
	. Decidida a quedarse en la ciudad que la vio crecer\, hará todo lo posibl
	e para mantener su hogar y recuperar los objetos de toda una vida. Por el 
	camino\, redescubre\, contra todo pronóstico\, el amor y el deseo.
LOCATION:Rúa de Ramón Piñeiro\, 3<br>\n15702 Santiago de Compostela
X-MICROSOFT-CDO-BUSYSTATUS:BUSY
DURATION:PT116M
END:VEVENT
END:VCALENDAR
