BEGIN:VCALENDAR
VERSION:2.0
CALSCALE:GREGORIAN
PRODID:adamgibbons/ics
METHOD:PUBLISH
X-PUBLISHED-TTL:PT1H
BEGIN:VEVENT
UID:Nm2qfMVK44jCLdxWrvp9r
SUMMARY:Amarga Navidad
DTSTAMP:20260422T183011Z
DTSTART:20261230T191500Z
DESCRIPTION:Elsa é unha directora de publicidade cuxa nai morre durante unh
	a longa ponte do mes de decembro. Encontra refuxio no traballo\, aínda que
	 é máis ben unha fuxida cara a diante. Traballa sen parar e sen decatarse\
	, non se concede o tempo necesario para gardar o dó pola ausencia materna.
LOCATION:Rúa de Ramón Piñeiro\, 3<br>\n15702 Santiago de Compostela
X-MICROSOFT-CDO-BUSYSTATUS:BUSY
DURATION:PT110M
END:VEVENT
END:VCALENDAR
