BEGIN:VCALENDAR
VERSION:2.0
CALSCALE:GREGORIAN
PRODID:adamgibbons/ics
METHOD:PUBLISH
X-PUBLISHED-TTL:PT1H
BEGIN:VEVENT
UID:4bYr1FwCD4GbW1I15_So0
SUMMARY:Altas capacidades
DTSTAMP:20260422T183011Z
DTSTART:20261230T173000Z
DESCRIPTION:Alicia e Gonzalo\, unha parella de clase media\, atópanse coa o
	portunidade de matricular o seu fillo Fer nun colexio laico de elite. Para
	 os pais supón asomar a cabeza na clase alta\, novas amizades\, maiores in
	gresos\, vantaxes incontables. Din facelo polo seu fillo.
LOCATION:Rúa de Ramón Piñeiro\, 3<br>\n15702 Santiago de Compostela
X-MICROSOFT-CDO-BUSYSTATUS:BUSY
DURATION:PT101M
END:VEVENT
END:VCALENDAR
