BEGIN:VCALENDAR
VERSION:2.0
CALSCALE:GREGORIAN
PRODID:adamgibbons/ics
METHOD:PUBLISH
X-PUBLISHED-TTL:PT1H
BEGIN:VEVENT
UID:8Be5mb12FbhXrjJ_XSzxJ
SUMMARY:El diablo viste de Prada 2
DTSTAMP:20260422T183011Z
DTSTART:20261231T164500Z
DESCRIPTION:Casi veinte años después de interpretar a los icónicos personaj
	es de Miranda\, Andy\, Emily y Nigel\, Meryl Streep\, Anne Hathaway\, Emil
	y Blunt y Stanley Tucci regresan.
URL:https://www.cinesa.es/compra/butacas/?showtimeId=131-38688
LOCATION:Centro comercial As Cancelas<br>\nAvenida Do Camiño Francés\, 3<br
	>\n15703 Santiago de Compostela
X-MICROSOFT-CDO-BUSYSTATUS:BUSY
DURATION:PT120M
END:VEVENT
END:VCALENDAR
