BEGIN:VCALENDAR
VERSION:2.0
CALSCALE:GREGORIAN
PRODID:adamgibbons/ics
METHOD:PUBLISH
X-PUBLISHED-TTL:PT1H
BEGIN:VEVENT
UID:E074VCVAI522ex75MTkRH
SUMMARY:Power To The People: John & Yoko Live in NYC
DTSTAMP:20260422T183011Z
DTSTART:20261231T122500Z
DESCRIPTION:Power To The People: John & Yoko Live in NYC es la película-con
	cierto multipantalla de 2026 de dos grandes conciertos en directo de John 
	Lennon y Yoko Ono en Madison Squa
URL:https://www.cinesa.es/compra/butacas/?showtimeId=131-38484
LOCATION:Centro comercial As Cancelas<br>\nAvenida Do Camiño Francés\, 3<br
	>\n15703 Santiago de Compostela
X-MICROSOFT-CDO-BUSYSTATUS:BUSY
DURATION:PT81M
END:VEVENT
END:VCALENDAR
