BEGIN:VCALENDAR
VERSION:2.0
CALSCALE:GREGORIAN
PRODID:adamgibbons/ics
METHOD:PUBLISH
X-PUBLISHED-TTL:PT1H
BEGIN:VEVENT
UID:5AIDYzmZl6u-aMzWwqbEl
SUMMARY:We the Hispanos
DTSTAMP:20260422T183011Z
DTSTART:20261230T203500Z
DESCRIPTION:"We the Hispanos" es un documental dirigido por José Luis López
	-Linares que reivindica la raíz hispana en la historia y cultura de Estado
	s Unidos.
URL:https://www.cinesa.es/compra/butacas/?showtimeId=131-39705
LOCATION:Centro comercial As Cancelas<br>\nAvenida Do Camiño Francés\, 3<br
	>\n15703 Santiago de Compostela
X-MICROSOFT-CDO-BUSYSTATUS:BUSY
DURATION:PT118M
END:VEVENT
END:VCALENDAR
