BEGIN:VCALENDAR
VERSION:2.0
CALSCALE:GREGORIAN
PRODID:adamgibbons/ics
METHOD:PUBLISH
X-PUBLISHED-TTL:PT1H
BEGIN:VEVENT
UID:7QHOg578UBZA2OvHfihBD
SUMMARY:No te olvidaré
DTSTAMP:20260422T183011Z
DTSTART:20261230T222000Z
DESCRIPTION:Tras salir de la cárcel\, Kenna intenta volver a conectar con s
	u hija pequeña\, pero se enfrenta a la resistencia de todo el mundo.
URL:https://www.cinesa.es/compra/butacas/?showtimeId=131-39706
LOCATION:Centro comercial As Cancelas<br>\nAvenida Do Camiño Francés\, 3<br
	>\n15703 Santiago de Compostela
X-MICROSOFT-CDO-BUSYSTATUS:BUSY
DURATION:PT114M
END:VEVENT
END:VCALENDAR
