BEGIN:VCALENDAR
VERSION:2.0
CALSCALE:GREGORIAN
PRODID:adamgibbons/ics
METHOD:PUBLISH
X-PUBLISHED-TTL:PT1H
BEGIN:VEVENT
UID:Sbb_WLGLW6HYOkUclVJo9
SUMMARY:Sidosa
DTSTAMP:20260422T183011Z
DTSTART:20261230T204500Z
DESCRIPTION:En ‘Sidosa’\, el director y actor Eduardo Casanova rompe años d
	e silencio y hace la revelación más íntima y trascendente de su vida: vive
	 con VIH.
URL:https://www.cinesa.es/compra/butacas/?showtimeId=131-38885
LOCATION:Centro comercial As Cancelas<br>\nAvenida Do Camiño Francés\, 3<br
	>\n15703 Santiago de Compostela
X-MICROSOFT-CDO-BUSYSTATUS:BUSY
DURATION:PT94M
END:VEVENT
END:VCALENDAR
