BEGIN:VCALENDAR
VERSION:2.0
CALSCALE:GREGORIAN
PRODID:adamgibbons/ics
METHOD:PUBLISH
X-PUBLISHED-TTL:PT1H
BEGIN:VEVENT
UID:4eZlX9mlFrJbX-R89kojm
SUMMARY:Torrente presidente
DTSTAMP:20260422T183011Z
DTSTART:20261230T224000Z
DESCRIPTION:Han pasado años desde su última aventura\, pero José Luis Torre
	nte\, el ex-policía más políticamente incorrecto de España\, sigue viéndos
	e a sí mismo como un héroe nacional.
URL:https://www.cinesa.es/compra/butacas/?showtimeId=131-39570
LOCATION:Centro comercial As Cancelas<br>\nAvenida Do Camiño Francés\, 3<br
	>\n15703 Santiago de Compostela
X-MICROSOFT-CDO-BUSYSTATUS:BUSY
DURATION:PT103M
END:VEVENT
END:VCALENDAR
