BEGIN:VCALENDAR
VERSION:2.0
CALSCALE:GREGORIAN
PRODID:adamgibbons/ics
METHOD:PUBLISH
X-PUBLISHED-TTL:PT1H
BEGIN:VEVENT
UID:lnvNHKeUDRO8siJAFvLsE
SUMMARY:Super Mario Galaxy: La película
DTSTAMP:20260422T183011Z
DTSTART:20261230T191000Z
DESCRIPTION:La película tiene lugar después de los acontecimientos de la pr
	imera\, en la que dos hermanos\, Mario y Luigi\, y la princesa Peach empre
	nden una nueva aventura.
URL:https://www.cinesa.es/compra/butacas/?showtimeId=131-39630
LOCATION:Centro comercial As Cancelas<br>\nAvenida Do Camiño Francés\, 3<br
	>\n15703 Santiago de Compostela
X-MICROSOFT-CDO-BUSYSTATUS:BUSY
DURATION:PT98M
END:VEVENT
END:VCALENDAR
