BEGIN:VCALENDAR
VERSION:2.0
CALSCALE:GREGORIAN
PRODID:adamgibbons/ics
METHOD:PUBLISH
X-PUBLISHED-TTL:PT1H
BEGIN:VEVENT
UID:hZvMrYzxC_RYJBz-zoVtv
SUMMARY:Boulevard
DTSTAMP:20260422T183011Z
DTSTART:20261230T160500Z
DESCRIPTION:Cuando Hasley se muda a una nueva ciudad con su madre\, lo últi
	mo que espera es cruzarse con Luke\, un joven envuelto en un aura peligros
	a y un pasado trágico.
URL:https://www.cinesa.es/compra/butacas/?showtimeId=131-39647
LOCATION:Centro comercial As Cancelas<br>\nAvenida Do Camiño Francés\, 3<br
	>\n15703 Santiago de Compostela
X-MICROSOFT-CDO-BUSYSTATUS:BUSY
DURATION:PT113M
END:VEVENT
END:VCALENDAR
