BEGIN:VCALENDAR
VERSION:2.0
CALSCALE:GREGORIAN
PRODID:adamgibbons/ics
METHOD:PUBLISH
X-PUBLISHED-TTL:PT1H
BEGIN:VEVENT
UID:snNUtDBe3Rnchzx6qYL7j
SUMMARY:Proyecto Salvación
DTSTAMP:20260422T183011Z
DTSTART:20261230T204500Z
DESCRIPTION:El profesor de ciencias Ryland Grace (Ryan Gosling) se despiert
	a en una nave espacial a años luz de casa sin recordar quién es ni cómo ha
	 llegado hasta allí.
URL:https://www.cinesa.es/compra/butacas/?showtimeId=131-39537
LOCATION:Centro comercial As Cancelas<br>\nAvenida Do Camiño Francés\, 3<br
	>\n15703 Santiago de Compostela
X-MICROSOFT-CDO-BUSYSTATUS:BUSY
DURATION:PT156M
END:VEVENT
END:VCALENDAR
