BEGIN:VCALENDAR
VERSION:2.0
CALSCALE:GREGORIAN
PRODID:adamgibbons/ics
METHOD:PUBLISH
X-PUBLISHED-TTL:PT1H
BEGIN:VEVENT
UID:T2N2KFEfGYE-DYthOmA6G
SUMMARY:La familia Benetón +2
DTSTAMP:20260422T183011Z
DTSTART:20261230T181000Z
DESCRIPTION:Cuando Toni Benetón cree que tiene todo bajo control en su entr
	añable y divertida familia multicultural\, la llegada de dos nuevos bebés 
	pondrá patas arriba la casa.
URL:https://www.cinesa.es/compra/butacas/?showtimeId=131-39610
LOCATION:Centro comercial As Cancelas<br>\nAvenida Do Camiño Francés\, 3<br
	>\n15703 Santiago de Compostela
X-MICROSOFT-CDO-BUSYSTATUS:BUSY
DURATION:PT87M
END:VEVENT
END:VCALENDAR
