BEGIN:VCALENDAR
VERSION:2.0
CALSCALE:GREGORIAN
PRODID:adamgibbons/ics
METHOD:PUBLISH
X-PUBLISHED-TTL:PT1H
BEGIN:VEVENT
UID:nXSXpJEpeWOipq3TB9FtS
SUMMARY:La momia de Lee Cronin
DTSTAMP:20260422T183011Z
DTSTART:20261230T222500Z
DESCRIPTION:La joven hija de un periodista desaparece en el desierto sin de
	jar rastro. Ocho años más tarde\, la familia rota se conmociona cuando ell
	a es devuelta a ellos.
URL:https://www.cinesa.es/compra/butacas/?showtimeId=131-39617
LOCATION:Centro comercial As Cancelas<br>\nAvenida Do Camiño Francés\, 3<br
	>\n15703 Santiago de Compostela
X-MICROSOFT-CDO-BUSYSTATUS:BUSY
DURATION:PT134M
END:VEVENT
END:VCALENDAR
