BEGIN:VCALENDAR
VERSION:2.0
CALSCALE:GREGORIAN
PRODID:adamgibbons/ics
METHOD:PUBLISH
X-PUBLISHED-TTL:PT1H
BEGIN:VEVENT
UID:xZHGaJuqfiAPXjViBYkMy
SUMMARY:Michael
DTSTAMP:20260422T183011Z
DTSTART:20261230T220000Z
DESCRIPTION:MICHAEL es el retrato en la gran pantalla de la vida y el legad
	o de uno de los artistas más influyentes que el mundo haya conocido.
URL:https://www.cinesa.es/compra/butacas/?showtimeId=131-38872
LOCATION:Centro comercial As Cancelas<br>\nAvenida Do Camiño Francés\, 3<br
	>\n15703 Santiago de Compostela
X-MICROSOFT-CDO-BUSYSTATUS:BUSY
DURATION:PT127M
END:VEVENT
END:VCALENDAR
