BEGIN:VCALENDAR
VERSION:2.0
CALSCALE:GREGORIAN
PRODID:adamgibbons/ics
METHOD:PUBLISH
X-PUBLISHED-TTL:PT1H
BEGIN:VEVENT
UID:PW3c7XwrbLZDto1asMpYV
SUMMARY:Patrimonio nacional
DTSTAMP:20260423T020246Z
DTSTART:20261230T181000Z
DESCRIPTION:Tras a morte de Franco e a restauración da Monarquía\, o marqué
	s de Leguineche regresa ao seu palacio de Madrid. Logo de trinta anos de e
	xilio voluntario na súa finca Los Tejadillos\, proponse achegarse ao Rei p
	ara reanudar a vida cortesá de antes.
URL:https://numax.org/carro/ticket/paso1/patrimonio-nacional-2/18353
LOCATION:Concepción Arenal\, 9 - Baixo<br>\n15702 Santiago de Compostela
X-MICROSOFT-CDO-BUSYSTATUS:BUSY
DURATION:PT106M
END:VEVENT
END:VCALENDAR
