BEGIN:VCALENDAR
VERSION:2.0
CALSCALE:GREGORIAN
PRODID:adamgibbons/ics
METHOD:PUBLISH
X-PUBLISHED-TTL:PT1H
BEGIN:VEVENT
UID:iy1xDu0UHrQN08PiHRbcd
SUMMARY:Quién vio los templos caer
DTSTAMP:20260423T020246Z
DTSTART:20261230T193500Z
DESCRIPTION:Desde hai dous séculos\, Chorrojumo\, o que un día foi "o Rei d
	os Xitanos"\, deambula en silencio polas rúas de Granada. A chegada de Ana
	s\, un mozo marroquí en busca da casa dos seus antepasados\, inicia unha b
	usca polas ruínas da cidade en transformacion.
URL:https://numax.org/carro/ticket/paso1/quien-vio-los-templos-caer/18335
LOCATION:Concepción Arenal\, 9 - Baixo<br>\n15702 Santiago de Compostela
X-MICROSOFT-CDO-BUSYSTATUS:BUSY
DURATION:PT72M
END:VEVENT
END:VCALENDAR
