BEGIN:VCALENDAR
VERSION:2.0
CALSCALE:GREGORIAN
PRODID:adamgibbons/ics
METHOD:PUBLISH
X-PUBLISHED-TTL:PT1H
BEGIN:VEVENT
UID:LcjpjZbHezLAAywEFLN1O
SUMMARY:O riso e a faca
DTSTAMP:20260422T183011Z
DTSTART:20261230T154500Z
DESCRIPTION:Sergio viaxa a África Occidental para traballar como enxeñeiro 
	ambiental. Alí entabla unha relación estreita\, aínda que un tanto desequi
	librada\, con Diara e Gui. Axiña descobre que un enxeñeiro italiano\, ao q
	ue lle asignaron a mesma misión uns meses atrás\, desapareceu misteriosame
	nte.
URL:https://numax.org/carro/ticket/paso1/o-riso-e-a-faca/18350
LOCATION:Concepción Arenal\, 9 - Baixo<br>\n15702 Santiago de Compostela
X-MICROSOFT-CDO-BUSYSTATUS:BUSY
DURATION:PT211M
END:VEVENT
END:VCALENDAR
