BEGIN:VCALENDAR
VERSION:2.0
CALSCALE:GREGORIAN
PRODID:adamgibbons/ics
METHOD:PUBLISH
X-PUBLISHED-TTL:PT1H
BEGIN:VEVENT
UID:UTqhHb4SGlZbEGfjYKUXT
SUMMARY:O son da caída
DTSTAMP:20260422T183011Z
DTSTART:20261230T154500Z
DESCRIPTION:Catro mozas adolescentes viven nunha mesma granxa do norte de A
	lemaña en épocas diferentes. Co paso dos anos\, a casa transfórmase\, pero
	 o eco do pasado resoa entre as vellas paredes. A pesar das décadas que as
	 separan\, as súas vidas parecen reflexarse entre elas.
URL:https://numax.org/carro/ticket/paso1/o-son-da-caida/18339
LOCATION:Concepción Arenal\, 9 - Baixo<br>\n15702 Santiago de Compostela
X-MICROSOFT-CDO-BUSYSTATUS:BUSY
DURATION:PT150M
END:VEVENT
END:VCALENDAR
