BEGIN:VCALENDAR
VERSION:2.0
CALSCALE:GREGORIAN
PRODID:adamgibbons/ics
METHOD:PUBLISH
X-PUBLISHED-TTL:PT1H
BEGIN:VEVENT
UID:J4O6K6a-c9fEwIoYfABUg
SUMMARY:Charlot en... Día de paga + Armas ao ombro!
DTSTAMP:20260423T020246Z
DTSTART:20261230T161500Z
DESCRIPTION:Proxectamos dúas curtametraxes dirixidas e interpretadas polo x
	enial Charles Chaplin\, comezando pola poética e esmendrellante "Día de Pa
	ga" e concluíndo coa antibelicista "Armas ao ombro!".
URL:https://numax.org/carro/ticket/paso1/chalot-curtas/18352
LOCATION:Concepción Arenal\, 9 - Baixo<br>\n15702 Santiago de Compostela
X-MICROSOFT-CDO-BUSYSTATUS:BUSY
DURATION:PT65M
END:VEVENT
END:VCALENDAR
