BEGIN:VCALENDAR
VERSION:2.0
CALSCALE:GREGORIAN
PRODID:adamgibbons/ics
METHOD:PUBLISH
X-PUBLISHED-TTL:PT1H
BEGIN:VEVENT
UID:31FXtHuPmSXlIB6AXD5jF
SUMMARY:La buena hija
DTSTAMP:20260423T020246Z
DTSTART:20261230T121500Z
DESCRIPTION:Tras a separación dos seus pais\, Carmela e a súa nai múdanse á
	 casa da avoa. Mentres trata de adaptarse á súa nova situación\, Carmela a
	nhela pasar máis tempo na casa do seu pai\, un artista plástico a quen adm
	ira e idolatra.
URL:https://numax.org/carro/ticket/paso1/la-buena-hija/18337
LOCATION:Concepción Arenal\, 9 - Baixo<br>\n15702 Santiago de Compostela
X-MICROSOFT-CDO-BUSYSTATUS:BUSY
DURATION:PT101M
END:VEVENT
END:VCALENDAR
