BEGIN:VCALENDAR
VERSION:2.0
CALSCALE:GREGORIAN
PRODID:adamgibbons/ics
METHOD:PUBLISH
X-PUBLISHED-TTL:PT1H
BEGIN:VEVENT
UID:QcGqZPro451ZDlMqwj9Wn
SUMMARY:Un hombre libre
DTSTAMP:20260423T020246Z
DTSTART:20261230T170000Z
DESCRIPTION:"Un hombre libre" explora a vida e obra de Agustín Gómez Arcos\
	, o escritor español exiliado que alcanzou grande éxito na literatura fran
	cesa nos anos 70\, mentres o seu nome permanecía silenciado en España.
URL:https://numax.org/carro/ticket/paso1/un-hombre-libre/18330
LOCATION:Concepción Arenal\, 9 - Baixo<br>\n15702 Santiago de Compostela
X-MICROSOFT-CDO-BUSYSTATUS:BUSY
DURATION:PT88M
END:VEVENT
END:VCALENDAR
