BEGIN:VCALENDAR
VERSION:2.0
CALSCALE:GREGORIAN
PRODID:adamgibbons/ics
METHOD:PUBLISH
X-PUBLISHED-TTL:PT1H
BEGIN:VEVENT
UID:5bpfVi7O2kt77gMC1p8RR
SUMMARY:Espellos nº 3
DTSTAMP:20260422T183011Z
DTSTART:20261230T123000Z
DESCRIPTION:Unha moza estudante de música sofre un accidente de coche no qu
	e morre o seu mozo. Milagrosamente sae ilesa e é acollida por unha estraña
	 familia. Tras pasar un tempo con eles atopa o apoio para recuperarse pero
	 decátase de que algo nesa familia non vai ben.
URL:https://numax.org/carro/ticket/paso1/espello-n-3/18326
LOCATION:Concepción Arenal\, 9 - Baixo<br>\n15702 Santiago de Compostela
X-MICROSOFT-CDO-BUSYSTATUS:BUSY
DURATION:PT86M
END:VEVENT
END:VCALENDAR
