BEGIN:VCALENDAR
VERSION:2.0
CALSCALE:GREGORIAN
PRODID:adamgibbons/ics
METHOD:PUBLISH
X-PUBLISHED-TTL:PT1H
BEGIN:VEVENT
UID:1h8g1Lf7E6NzY6Ye7i3Md
SUMMARY:Prime Crime: A True Story
DTSTAMP:20260423T020246Z
DTSTART:20261230T212500Z
DESCRIPTION:Recrea a historia real do secuestro de 1977 que converteu a Ton
	y Kiritsis\, un aspirante a empresario de Indianápolis\, nun excéntrico he
	roe popular proscrito.
URL:https://numax.org/carro/ticket/paso1/dead-man-wire/18315
LOCATION:Concepción Arenal\, 9 - Baixo<br>\n15702 Santiago de Compostela
X-MICROSOFT-CDO-BUSYSTATUS:BUSY
DURATION:PT104M
END:VEVENT
END:VCALENDAR
