BEGIN:VCALENDAR
VERSION:2.0
CALSCALE:GREGORIAN
PRODID:adamgibbons/ics
METHOD:PUBLISH
X-PUBLISHED-TTL:PT1H
BEGIN:VEVENT
UID:ZzH1t4-hKmi-sid7JGb6k
SUMMARY:Jaguayano
DTSTAMP:20260422T183011Z
DTSTART:20261230T203000Z
DESCRIPTION:O venres 24 de abril\, desembarca en Santiago a proposta máis l
	uminosa e fresca do cantábrico: JAGUAYANO.\n\nPablo Gómez\, desde a Costa 
	Crebada cántabra\, aterra coa súa ukelele e a súa guitarra de nylon para t
	ransportarnos a praias paradisíacas que só existen na imaxinación. Ou quiz
	á si existen. As súas.\n\nA súa música ponche un sorriso na cara. As súas 
	melodías arrólanche con aparente lixeireza. Pero por baixo\, esa voz racha
	da e inconfundible escarba a alma e deixa un pouso de verdade inesperado. 
	Como un atardecer perfecto desde a súa illa particular.\n\nCon máis de 7 m
	illóns de escoitas en "Encarcelado"\, e un novo disco recentemente saído d
	o forno (Botas de Aguacate\, maio 2025)\, Jaguayano vén presentar en direc
	to todas as cancións que xa forman parte da banda sonora de moita xente.\n
	\nUn concerto para deixarse levar\, cantar\, sentir e soñar esperto.\n\n🗓 
	VENRES 24 DE ABRIL  \n⏰ 20:30h  \n📍 Riquela Club  \n🎟 Entradas xa á venda 
	Baila FM\n\nVésche á illa?\n\n#RiquelaClub #Jaguayano #BotasDeAguacate
LOCATION:Rúa do Preguntoiro\, 35<br>\n15704 Santiago de Compostela
X-MICROSOFT-CDO-BUSYSTATUS:BUSY
DURATION:PT
END:VEVENT
END:VCALENDAR
