BEGIN:VCALENDAR
VERSION:2.0
CALSCALE:GREGORIAN
PRODID:adamgibbons/ics
METHOD:PUBLISH
X-PUBLISHED-TTL:PT1H
BEGIN:VEVENT
UID:8TsnRPDOQZ4NxrYfN9dUE
SUMMARY:SUSI CARAMELO
DTSTAMP:20260422T183011Z
DTSTART:20261230T210000Z
DESCRIPTION:El show de Susi Caramelo es un monólogo divertido y provocador 
	donde la humorista catalana despliega su desparpajo y sinceridad. Con un e
	stilo directo y sin filtros\, mezcla anécdotas personales\, crítica social
	 y humor sexual\, conectando con el público a través de su carisma\, fresc
	ura y autenticidad inconfundible.\n\nDuración: 75 minutos  \nEdad recomend
	ada: + 16 años
URL:https://www.teatrocompostela.es/susi-caramelo-santiago/
LOCATION:Rúa de Ramón del Valle-Inclán\, 6<br>\n15703 Santiago de Compostel
	a
X-MICROSOFT-CDO-BUSYSTATUS:BUSY
DURATION:PT
END:VEVENT
END:VCALENDAR
