BEGIN:VCALENDAR
VERSION:2.0
CALSCALE:GREGORIAN
PRODID:adamgibbons/ics
METHOD:PUBLISH
X-PUBLISHED-TTL:PT1H
BEGIN:VEVENT
UID:Q5awR4E87zjVnHYFZ04aB
SUMMARY:Musical Teatro La Granja
DTSTAMP:20260422T183011Z
DTSTART:20261231T180000Z
URL:https://entradas.ataquilla.com/es/ventaentradas/infantil-familiar_music
	al-infantil/841-teatro-compostela-28antiguo-teatro-la-salle29/x3akn40m-la-
	granja-el-musical
LOCATION:Rúa de Ramón del Valle-Inclán\, 6<br>\n15703 Santiago de Compostel
	a
X-MICROSOFT-CDO-BUSYSTATUS:BUSY
DURATION:PT
END:VEVENT
END:VCALENDAR
